BEGIN:VCALENDAR
PRODID:-//AT Content Types//AT Event//EN
VERSION:2.0
METHOD:PUBLISH
BEGIN:VEVENT
DTSTAMP:20260425T173807Z
CREATED:20180323T164915Z
UID:ATEvent-2ffa86e45973456dbf3453de7c70596b
LAST-MODIFIED:20180405T131759Z
SUMMARY:Aula Aberta | Alojamento Local
DTSTART:20180410T170000Z
DTEND:20180410T190000Z
DESCRIPTION:A Licenciatura e o Mestrado em Solicitadoria convidam para
  aula aberta subordinada ao tema\, “Alojamento Local”.
LOCATION:ESTG | Auditório Prof. Doutor Luís Soares
CONTACT:Serviço de Comunicação e Imagem\, +351 255 314 002\, sci@estg.ipp.pt
CLASS:PUBLIC
END:VEVENT
END:VCALENDAR
