BEGIN:VCALENDAR
PRODID:-//AT Content Types//AT Event//EN
VERSION:2.0
METHOD:PUBLISH
BEGIN:VEVENT
DTSTAMP:20260424T051656Z
CREATED:20220405T143131Z
UID:ATEvent-441c8e07c1e745a3afbd7cf533e6e01f
LAST-MODIFIED:20220406T094002Z
SUMMARY:Aula Aberta | Conhecimento da Nota e Moeda de Euro
DTSTART:20220427T170000Z
DTEND:20220427T190000Z
DESCRIPTION:A Escola Superior de Tecnologia e Gestão do P.PORTO convi
 da à participação na aula aberta intitulada: “Conhecimento da Not
 a e Moeda de Euro”.
LOCATION:ESTG | Auditório 1
CONTACT:Serviço de Comunicação e Imagem\, +351 225 314 002\, sci@estg.ipp.pt
CLASS:PUBLIC
END:VEVENT
END:VCALENDAR
