BEGIN:VCALENDAR
PRODID:-//AT Content Types//AT Event//EN
VERSION:1.0
BEGIN:VEVENT
DTSTART:20260428T080000Z
DTEND:20260428T100000Z
DCREATED:20260424T163256Z
UID:ATEvent-87a71093ae204ce285bfb4b918137e1c
SEQUENCE:0
LAST-MODIFIED:20260424T164412Z
SUMMARY:Aula Aberta | Do Less. Change More.
DESCRIPTION:A Escola Superior de Tecnologia e Gestão do P. PORTO conv
 ida à participação na aula aberta intitulada: “Do Less. Change Mo
 re. It’s not about what you build - it’s about the impact and chan
 ge it creates.”.
LOCATION:Sala 0.3
PRIORITY:3
TRANSP:0
END:VEVENT
END:VCALENDAR
