BEGIN:VCALENDAR
PRODID:-//AT Content Types//AT Event//EN
VERSION:2.0
METHOD:PUBLISH
BEGIN:VEVENT
DTSTAMP:20260425T034659Z
CREATED:20221222T174108Z
UID:ATEvent-50fc906235ce4587ae02a931e32dc455
LAST-MODIFIED:20230113T161239Z
SUMMARY:[NOVA DATA] CIICESI Workshop | Introdução a Neo4j
DTSTART:20230125T190000Z
DTEND:20230125T210000Z
DESCRIPTION:O CIICESI\, Centro de Investigação da ESTG promove um Wo
 rkshop sobre bases de dados orientadas por grafos com Neo4j.
LOCATION:ESTG | Auditório 3
CONTACT:Serviço de Comunicação e Imagem\, + 351 225314002\, sci@estg.ipp.pt
CLASS:PUBLIC
END:VEVENT
END:VCALENDAR
