BEGIN:VCALENDAR
PRODID:-//AT Content Types//AT Event//EN
VERSION:2.0
METHOD:PUBLISH
BEGIN:VEVENT
DTSTAMP:20260425T012450Z
CREATED:20231215T165842Z
UID:ATEvent-39eb1acb8d0c41de8dd6d31f6a96c5da
LAST-MODIFIED:20231218T142102Z
SUMMARY:CIICESI Workshop | Introdução a Neo4j
DTSTART:20240110T190000Z
DTEND:20240110T210000Z
DESCRIPTION:O CIICESI\, Centro de Investigação da ESTG\, promove um 
 Workshop sobre bases de dados orientadas por grafos com Neo4j.
LOCATION:ESTG | AUDITÓRIO 3
CONTACT:Serviço de Comunicação e Imagem\, +351 255 314 002\, sci@estg.ipp.pt
CLASS:PUBLIC
END:VEVENT
END:VCALENDAR
