BEGIN:VCALENDAR
PRODID:-//AT Content Types//AT Event//EN
VERSION:2.0
METHOD:PUBLISH
BEGIN:VEVENT
DTSTAMP:20260425T145452Z
CREATED:20201109T161038Z
UID:ATEvent-b119d76a5bf749d5a15f0fc1aeb68eaf
LAST-MODIFIED:20201109T163043Z
SUMMARY:CIICESI Workshop | Introdução ao SPSS
DTSTART:20201111T190000Z
DTEND:20201111T203000Z
DESCRIPTION:O CIICESI\, Centro de Investigação da ESTG promove um Wo
 rkshop sobre a introdução à análise estatística com o SPSS.
LOCATION:ESTG | Plataforma ZOOM
CONTACT:Serviço de Comunicação e Imagem\, +351 255 314 002\, sci@estg.ipp.pt
CLASS:PUBLIC
END:VEVENT
END:VCALENDAR
