BEGIN:VCALENDAR
PRODID:-//AT Content Types//AT Event//EN
VERSION:1.0
BEGIN:VEVENT
DTSTART:20221124T143000Z
DTEND:20221124T160000Z
DCREATED:20221123T121833Z
UID:ATEvent-8d1c7dd0224e4075b96f24819c9eec17
SEQUENCE:0
LAST-MODIFIED:20221124T043406Z
SUMMARY:International Workshop "Vibrations in the Occupational Environment"
DESCRIPTION:A Escola Superior de Tecnologia e Gestão convida a comuni
 dade a participar no International Workshop com o tema “Vibrations i
 n the Occupational Environment”.
LOCATION:ESTG
PRIORITY:3
TRANSP:0
END:VEVENT
END:VCALENDAR
