BEGIN:VCALENDAR
PRODID:-//AT Content Types//AT Event//EN
VERSION:1.0
BEGIN:VEVENT
DTSTART:20231016T090000Z
DTEND:20231017T163000Z
DCREATED:20231004T114303Z
UID:ATEvent-31a656e6b8e14cd3800f5084e73fed6f
SEQUENCE:0
LAST-MODIFIED:20231016T134944Z
SUMMARY:Workshop | Introdução ao R e RStudio
DESCRIPTION:A Escola Superior de Tecnologia e Gestão do P.PORTO promo
 ve um workshop de introdução ao R e RStudio\, em que podem participa
 r todos os interessados.
LOCATION:ESTG
PRIORITY:3
TRANSP:0
END:VEVENT
END:VCALENDAR
